BEGIN:VCALENDAR
VERSION:2.0
PRODID:-//Cliff Bell's - ECPv6.15.20//NONSGML v1.0//EN
CALSCALE:GREGORIAN
METHOD:PUBLISH
X-ORIGINAL-URL:https://cliffbells.com
X-WR-CALDESC:Events for Cliff Bell's
REFRESH-INTERVAL;VALUE=DURATION:PT1H
X-Robots-Tag:noindex
X-PUBLISHED-TTL:PT1H
BEGIN:VTIMEZONE
TZID:America/Detroit
BEGIN:DAYLIGHT
TZOFFSETFROM:-0500
TZOFFSETTO:-0400
TZNAME:EDT
DTSTART:20230312T070000
END:DAYLIGHT
BEGIN:STANDARD
TZOFFSETFROM:-0400
TZOFFSETTO:-0500
TZNAME:EST
DTSTART:20231105T060000
END:STANDARD
BEGIN:DAYLIGHT
TZOFFSETFROM:-0500
TZOFFSETTO:-0400
TZNAME:EDT
DTSTART:20240310T070000
END:DAYLIGHT
BEGIN:STANDARD
TZOFFSETFROM:-0400
TZOFFSETTO:-0500
TZNAME:EST
DTSTART:20241103T060000
END:STANDARD
BEGIN:DAYLIGHT
TZOFFSETFROM:-0500
TZOFFSETTO:-0400
TZNAME:EDT
DTSTART:20250309T070000
END:DAYLIGHT
BEGIN:STANDARD
TZOFFSETFROM:-0400
TZOFFSETTO:-0500
TZNAME:EST
DTSTART:20251102T060000
END:STANDARD
END:VTIMEZONE
BEGIN:VEVENT
DTSTART;TZID=America/Detroit:20241212T193000
DTEND;TZID=America/Detroit:20241212T213000
DTSTAMP:20260419T105139
CREATED:20241021T172320Z
LAST-MODIFIED:20241212T145152Z
UID:10007265-1734031800-1734039000@cliffbells.com
SUMMARY:ELEW
DESCRIPTION:There will be two separate seatings at 7:30pm & 9:30pm for this performance.\nDoors open at 5pm for dinner. Seating begins at 6pm for “Dinner & a Show”. The second show starts seating at 9pm.\nWith Detroit’s own Louis Jones on the drums and Jeff Pedraz on bass. \nA native of Camden\, New Jersey\, Eric Lewis began his musical studies at 2 years old and would ultimately receive the Rodger’s and Hammerstein full merit scholarship to the Manhattan School of Music. A Dean’s List student\, upon graduation\, he toured the world\, recorded and performed with Wynton Marsalis & the Jazz at Lincoln Center Orchestra\, Elvin Jones\, Cassandra Wilson\,\nRoy Hargrove\, and John Hendricks among others. In 1999\, Eric won the Thelonious Monk International Piano Competition\, at the time\, the most\ncoveted prize in all of Jazz. A decade into his career\, he reemerged as ELEW and began fusing his piano techniques with rock guitar-based ideas and experimental prepared piano methods\, generating a powerful crossover brand he coined “Rockjazz”. Over the course of multiple award winning\, critically acclaimed albums\, ELEW has re-imagined songs by The Killers\, Nirvana\, Coldplay and Michael Jackson to name a few. Throughout his career he has built an elite fanbase of some of the most distinguished leaders and celebrities such as Leonardo DiCaprio\, Gerard Butler\, Barack and Michele Obama\, Prince Albert II\, Will Smith\, Eli Roth\, Al Pacino and the list goes on… Inspired by the European masters of Baroque Counterpoint\, ELEW has innovated the technique of simultaneously executing two independent melodies which precisely detail harmonic forms bursting with idiomatic verisimilitude and wide ranging historical references while flawlessly maintaining the idiosyncratic Afrocentric timing at the core of Jazz improvisation.\nHe has named this technique Counterbop. His album Cubism – ELEW plays Rosenwinkel\, a solo piano exploration of contemporary jazz legend Kurt Rosenwinkel provides perspective an insight into the nature of what Counterbop is and how it may be implemented. In addition to piano performance\, appearing in and scoring for film\, ELEW is a prominent international DJ. He has has created disco infernos for multiple events such as The World Economic Forum\, TED\, Art Basel\, A-list Oscar parties\, the Monte-Carlo Gala\, the Cannes Film Festival and multiple celebrity birthdays and weddings. In some cases\, ELEW places the turntables within the piano\, seamlessly executing transitions and improvisations all while generating a pleasing frenzy on the dance floor. This has lead to him creating yet another brilliant innovation he calls Piano Turntablism . He literally plays two different yet recognizable songs simultaneously as a Dj would but on the Piano. All while maintaining the type of euphoric atmosphere one would experience at an over-the-top Las Vegas mega club or an epic music\nfestival. ELEW is a genuine master of the piano and artistic genius.
URL:https://cliffbells.com/event/elew-2/2024-12-12/
ATTACH;FMTTYPE=image/jpeg:https://cliffbells.com/wp-content/uploads/2024/10/avedon-2-1-683x1024-1.jpg
END:VEVENT
END:VCALENDAR