BEGIN:VCALENDAR
VERSION:2.0
PRODID:-//Cliff Bell's - ECPv6.15.20//NONSGML v1.0//EN
CALSCALE:GREGORIAN
METHOD:PUBLISH
X-ORIGINAL-URL:https://cliffbells.com
X-WR-CALDESC:Events for Cliff Bell's
REFRESH-INTERVAL;VALUE=DURATION:PT1H
X-Robots-Tag:noindex
X-PUBLISHED-TTL:PT1H
BEGIN:VTIMEZONE
TZID:America/Detroit
BEGIN:DAYLIGHT
TZOFFSETFROM:-0500
TZOFFSETTO:-0400
TZNAME:EDT
DTSTART:20230312T070000
END:DAYLIGHT
BEGIN:STANDARD
TZOFFSETFROM:-0400
TZOFFSETTO:-0500
TZNAME:EST
DTSTART:20231105T060000
END:STANDARD
BEGIN:DAYLIGHT
TZOFFSETFROM:-0500
TZOFFSETTO:-0400
TZNAME:EDT
DTSTART:20240310T070000
END:DAYLIGHT
BEGIN:STANDARD
TZOFFSETFROM:-0400
TZOFFSETTO:-0500
TZNAME:EST
DTSTART:20241103T060000
END:STANDARD
BEGIN:DAYLIGHT
TZOFFSETFROM:-0500
TZOFFSETTO:-0400
TZNAME:EDT
DTSTART:20250309T070000
END:DAYLIGHT
BEGIN:STANDARD
TZOFFSETFROM:-0400
TZOFFSETTO:-0500
TZNAME:EST
DTSTART:20251102T060000
END:STANDARD
END:VTIMEZONE
BEGIN:VEVENT
DTSTART;TZID=America/Detroit:20241219T193000
DTEND;TZID=America/Detroit:20241219T213000
DTSTAMP:20260419T212910
CREATED:20240720T161759Z
LAST-MODIFIED:20241202T184503Z
UID:10007241-1734636600-1734643800@cliffbells.com
SUMMARY:Drey Skonie and The kLOUDs Band 10th annual Grateful Christmas
DESCRIPTION:Join us for the 10th Annual Grateful Christmas Clothing & Blanket Drive\, hosted by Drey Skonie & The Klouds Band! Help usher in a warm and inviting holiday season by bringing any new or lightly worn winter blankets or garments to be distributed by the kLOUDs to those in need.\nShowtimes are at 7:30p & 9:30p for this performance. Doors open at 5pm for dinner. Seating begins at 6pm for “Dinner & a Show”. The second show starts seating at 9pm.\nFeaturing: \n\nJessica Care Moore\nCharity\nHazmat Live\n\nDrey Skonie and The kLOUDs Band a.k.a. “Skonie and The kLOUDs” emphasis on the loud. Hailing from the motor city\, Detroit\, MI. Skonie and The kLOUDs are retro style band\, with a new flare. They call themselves the new\, old school. \n \nIn the past few years\, The kLOUDs Band has been shaking up the Detroit Music Scene making the industry take notice.  In 2023 Drey Skonie lead singer of the band won “Artist Of The Year” at Motown Museum’s Hitsville Next Amplify Sound Of Detroit singing competition. Then only a month later Skonie and The kLOUDS were also crowned winners of Masterpiece Sound Studios’ Cover Song Contest in honor of the late\, legendary Motown songwriter and producer Sylvia Moy with their captivating rendition of Moy’s classic Stevie Wonder Motown hit\, “I Was Made To Love Her”. During the competition\, Drey met Jackie Wilson’s daughter Brenda Wilson\, who was a judge for the competition. Brenda then knew from Drey’s showmanship\, that she wanted Drey to play her Dad. Fast forward Drey now plays Jackie Wilson in a TV series entitled “Higher And Higher” coming soon. \nThe latest album “Rolling Skone” is available on iTunes\, Spotify\, Amazon\, and more.  They have appeared on stages from The D to Los Angeles rocking crowds with a multifaceted soul\, funk\, RnB\, and techno sound. \nCurrently “Skonie and The kLOUDs” are recording live in the studio. You can also hear new material and watch performances of the band on YouTube\, as well as Instagram @dreyskonie and @thekloudsband.
URL:https://cliffbells.com/event/drey-skonie-and-the-klouds-band-2/
CATEGORIES:Featured
ATTACH;FMTTYPE=image/jpeg:https://cliffbells.com/wp-content/uploads/2024/07/grateful_christmas.jpg
END:VEVENT
END:VCALENDAR