BEGIN:VCALENDAR
VERSION:2.0
PRODID:-//Cliff Bell's - ECPv6.15.20//NONSGML v1.0//EN
CALSCALE:GREGORIAN
METHOD:PUBLISH
X-ORIGINAL-URL:https://cliffbells.com
X-WR-CALDESC:Events for Cliff Bell's
REFRESH-INTERVAL;VALUE=DURATION:PT1H
X-Robots-Tag:noindex
X-PUBLISHED-TTL:PT1H
BEGIN:VTIMEZONE
TZID:America/Detroit
BEGIN:DAYLIGHT
TZOFFSETFROM:-0500
TZOFFSETTO:-0400
TZNAME:EDT
DTSTART:20250309T070000
END:DAYLIGHT
BEGIN:STANDARD
TZOFFSETFROM:-0400
TZOFFSETTO:-0500
TZNAME:EST
DTSTART:20251102T060000
END:STANDARD
BEGIN:DAYLIGHT
TZOFFSETFROM:-0500
TZOFFSETTO:-0400
TZNAME:EDT
DTSTART:20260308T070000
END:DAYLIGHT
BEGIN:STANDARD
TZOFFSETFROM:-0400
TZOFFSETTO:-0500
TZNAME:EST
DTSTART:20261101T060000
END:STANDARD
BEGIN:DAYLIGHT
TZOFFSETFROM:-0500
TZOFFSETTO:-0400
TZNAME:EDT
DTSTART:20270314T070000
END:DAYLIGHT
BEGIN:STANDARD
TZOFFSETFROM:-0400
TZOFFSETTO:-0500
TZNAME:EST
DTSTART:20271107T060000
END:STANDARD
END:VTIMEZONE
BEGIN:VEVENT
DTSTART;TZID=America/Detroit:20260115T193000
DTEND;TZID=America/Detroit:20260115T213000
DTSTAMP:20260419T080121
CREATED:20251028T141859Z
LAST-MODIFIED:20251103T152641Z
UID:10008484-1768505400-1768512600@cliffbells.com
SUMMARY:Everything Yes
DESCRIPTION:Showtimes are at 7:30p & 9:30p for this performance. Doors open at 5pm for dinner. Seating begins at 6pm for “Dinner & a Show”. The second show starts seating at 9pm.\nADVANCED TICKETS AVAILABLE HERE \nEverything Yes is an American jazz fusion band spearheaded by the drummer Zack Graybeal\, known famously as ZackGrooves on his platforms\, Sean Reeser\, prolific composer\, producer and tenor sax master & Cole Sipe\, composer\, sound engineer and magistral bassist. \nThis powerhouse of a band brings a fresh take on the style while staying true to the roots. Let’s meet the members! \nZack Graybeal (DRUMS) : Born in Atlanta GA\, there was no question that this man was destined for greatness. His unstoppable determination and discipline are a force to be reckoned with. He spent his  entire education at East Carolina University in the top bands at the school. He is exactly as he presents himself on YouTube. There is no filter or mask that could ever cover his unique and raw personality. \nSean Reeser (MAIN COMPOSER & TENOR SAX) : From York PA\, this genius producer and tenor saxophone master first met Zack at East Carolina when they were both given the same audition slot. This was the beginning of Everything Yes. Just like Zack\, Sean spent his time at ECU in all the top bands. Their styles and discipline heavily influenced each other during this crucial time. His vast knowledge of theory and composition are an integral part of the unique sound Everything Yes brings. \nCole Sipe (BASS): Also from York PA\, Cole and Sean have been playing together since they were fifteen. Having both attended the Inspire Studio of the Arts\, an excellent school in York directed by Cole’s father Curt\, they bring over a decade of musical kinship to Everything Yes that most bands would kill to have. Cole’s moves and grooves bring life to the room. His style and finesse on the bass is the perfect fit and a staple of the EY sound. \nNathan Graybeal (ALTO SAX): A young artist from North Carolina\, most well-known for his YouTube persona “Saxologic”. Originally an avid artist then animator\, he has transferred his love for art to saxophone. He spreads his infectious passion to inspire others to find the joy of improving in music. Nathan obtained a bachelor’s degree in both jazz and classical saxophone performance from East Carolina University. He attended the Frost School of Music at University of Miami for his Masters and currently attends University of Memphis for his DMA.
URL:https://cliffbells.com/event/everything-yes/
CATEGORIES:Featured
ATTACH;FMTTYPE=image/png:https://cliffbells.com/wp-content/uploads/2025/10/winter_arc_4X4_blank-min_2500x2500.png
END:VEVENT
END:VCALENDAR