BEGIN:VCALENDAR
VERSION:2.0
PRODID:-//Cliff Bell's - ECPv6.15.20//NONSGML v1.0//EN
CALSCALE:GREGORIAN
METHOD:PUBLISH
X-WR-CALNAME:Cliff Bell's
X-ORIGINAL-URL:https://cliffbells.com
X-WR-CALDESC:Events for Cliff Bell's
REFRESH-INTERVAL;VALUE=DURATION:PT1H
X-Robots-Tag:noindex
X-PUBLISHED-TTL:PT1H
BEGIN:VTIMEZONE
TZID:America/Detroit
BEGIN:DAYLIGHT
TZOFFSETFROM:-0500
TZOFFSETTO:-0400
TZNAME:EDT
DTSTART:20250309T070000
END:DAYLIGHT
BEGIN:STANDARD
TZOFFSETFROM:-0400
TZOFFSETTO:-0500
TZNAME:EST
DTSTART:20251102T060000
END:STANDARD
BEGIN:DAYLIGHT
TZOFFSETFROM:-0500
TZOFFSETTO:-0400
TZNAME:EDT
DTSTART:20260308T070000
END:DAYLIGHT
BEGIN:STANDARD
TZOFFSETFROM:-0400
TZOFFSETTO:-0500
TZNAME:EST
DTSTART:20261101T060000
END:STANDARD
BEGIN:DAYLIGHT
TZOFFSETFROM:-0500
TZOFFSETTO:-0400
TZNAME:EDT
DTSTART:20270314T070000
END:DAYLIGHT
BEGIN:STANDARD
TZOFFSETFROM:-0400
TZOFFSETTO:-0500
TZNAME:EST
DTSTART:20271107T060000
END:STANDARD
END:VTIMEZONE
BEGIN:VEVENT
DTSTART;TZID=America/Detroit:20260524T173000
DTEND;TZID=America/Detroit:20260524T193000
DTSTAMP:20260419T141228
CREATED:20260213T173826Z
LAST-MODIFIED:20260213T173910Z
UID:10009030-1779643800-1779651000@cliffbells.com
SUMMARY:Sky Covington’s Satin Doll Revue
DESCRIPTION:SHOWTIMES ARE AT 5:30PM & 7:30PM FOR THIS PERFORMANCE.\nDoors open at 4pm for dinner. Seating begins at 5pm for “Dinner & a Show”. The second show starts seating at 7pm.\n\n\n\nSky Covington’s Satin Doll Revue\nCreated and produced by award-winning jazz vocalist and cultural curator Sky Covington\, The Satin Doll Revue is a celebrated concert experience honoring the legendary women whose voices shaped the emotional and musical landscape of jazz.\n\nPresented through Covington’s organization\, The Preservation of Jazz\, the revue blends elegant stage presentation\, masterful musicianship\, and heartfelt storytelling to illuminate the artistry and influence of iconic performers such as Billie Holiday\, Nina Simone\, Etta James\, and Nancy Wilson.\n\nMore than a tribute\, The Satin Doll Revue is a living expression of jazz heritage — thoughtfully curated to celebrate not only the music\, but the courage\, sophistication\, and individuality of the women who transformed American song.\nAt the heart of the production is Covington herself\, whose deeply expressive portrayals — particularly of Billie Holiday — bring emotional authenticity and interpretive depth to every performance. Surrounding her is a dynamic ensemble of vocalists and musicians who share a commitment to honoring tradition while engaging modern audiences.\nUnder Covington’s visionary leadership\, The Satin Doll Revue has grown into one of Detroit’s notable live music presentations\, drawing devoted listeners while introducing new audiences to the timeless power of jazz.\n\nElegant\, immersive\, and musically rich\, the production reflects Covington’s enduring mission: to preserve the legacy of jazz while ensuring its spirit continues to resonate for generations to come.\n\n\n\nhttps://www.facebook.com/thesatindollrevue\n\nhttps://www.instagram.com/skycovingtonsatindollrevue
URL:https://cliffbells.com/event/sky-covingtons-satin-doll-revue-2/
ATTACH;FMTTYPE=image/png:https://cliffbells.com/wp-content/uploads/2026/02/unnamed-3.png
END:VEVENT
END:VCALENDAR