BEGIN:VCALENDAR
VERSION:2.0
PRODID:-//Cliff Bell's - ECPv6.15.20//NONSGML v1.0//EN
CALSCALE:GREGORIAN
METHOD:PUBLISH
X-ORIGINAL-URL:https://cliffbells.com
X-WR-CALDESC:Events for Cliff Bell's
REFRESH-INTERVAL;VALUE=DURATION:PT1H
X-Robots-Tag:noindex
X-PUBLISHED-TTL:PT1H
BEGIN:VTIMEZONE
TZID:America/Detroit
BEGIN:DAYLIGHT
TZOFFSETFROM:-0500
TZOFFSETTO:-0400
TZNAME:EDT
DTSTART:20250309T070000
END:DAYLIGHT
BEGIN:STANDARD
TZOFFSETFROM:-0400
TZOFFSETTO:-0500
TZNAME:EST
DTSTART:20251102T060000
END:STANDARD
BEGIN:DAYLIGHT
TZOFFSETFROM:-0500
TZOFFSETTO:-0400
TZNAME:EDT
DTSTART:20260308T070000
END:DAYLIGHT
BEGIN:STANDARD
TZOFFSETFROM:-0400
TZOFFSETTO:-0500
TZNAME:EST
DTSTART:20261101T060000
END:STANDARD
BEGIN:DAYLIGHT
TZOFFSETFROM:-0500
TZOFFSETTO:-0400
TZNAME:EDT
DTSTART:20270314T070000
END:DAYLIGHT
BEGIN:STANDARD
TZOFFSETFROM:-0400
TZOFFSETTO:-0500
TZNAME:EST
DTSTART:20271107T060000
END:STANDARD
END:VTIMEZONE
BEGIN:VEVENT
DTSTART;TZID=America/Detroit:20260529T193000
DTEND;TZID=America/Detroit:20260529T213000
DTSTAMP:20260419T203741
CREATED:20260306T165732Z
LAST-MODIFIED:20260306T165732Z
UID:10009414-1780083000-1780090200@cliffbells.com
SUMMARY:Joslyn & The Sweet Compression
DESCRIPTION:Showtimes are at 7:30p & 9:30p for this performance. Doors open at 5pm for dinner. Seating begins at 6pm for “Dinner & a Show”. The second show starts seating at 9pm.\n“A refreshing take on the neo-soul / funk sound\, unbound by modern cliches.”\n– Glide Magazine   \nJoslyn & The Sweet Compression are bona fide\, and they want the world to know it. \n \nA rising force out of Lexington\, Kentucky\, the band led by Joslyn Hampton come out swinging on their sophomore album\, ready to uplift and inspire through their singular and stirring soul-funk sound. 2019’s critically acclaimed debut album made them a favorite headliner at regional clubs and music festivals. After a grueling and relentless tour schedule – one that saw them supporting Tower of Power at New York’s Sony Hall and Tyler Childers at Colorado’s legendary Red Rocks Amphitheatre – the band are back with Bona Fide\, a sonically and emotionally charged record that captures their breathtaking live energy as well as their humanity. \nReleased August 25\, 2023\, Bona Fide is a resounding testament to Joslyn & The Sweet Compression’s unparalleled talents\, as well as an homage to the band’s co-founder (and Joslyn Hampton’s step-father)\, Marty Charters\, who passed away in 2022. \nMusically\, Bona Fide blends soulful and smoldering neo-funk with elements of ‘70s and ‘80s R&B. Hampton pulls from her inspirations – Aretha Franklin\, Chaka Khan\, Whitney Houston\, and Mariah Carey – as well as from the opera singers she studied in college. “I find myself applying all of the things I’ve learned to my passion now\, and placing it in my music\,” she shares. \nThe result is a unique\, hooky style that helps Joslyn & The Sweet Compression stand apart from their contemporaries. To Hampton\, Bona Fide is a record about a ride she calls “the human rollercoaster.” \n“You have falling in love\, getting cheated on\, celebrating this life – you only get one\,” she says. “We go through so many human emotions on this album\, and that’s what I want to bring to life: The ride of being a human! I want to take you to the moment you found the love of your life when you looked across the room. This album is literally meant to take you to every human emotion you have.” \n 
URL:https://cliffbells.com/event/joslyn-the-sweet-compression-2/2026-05-29/
CATEGORIES:Featured
ATTACH;FMTTYPE=image/jpeg:https://cliffbells.com/wp-content/uploads/2025/04/Copy-of-Joslyn-Photo-1-scaled.jpg
END:VEVENT
END:VCALENDAR