BEGIN:VCALENDAR
VERSION:2.0
PRODID:-//Cliff Bell's - ECPv6.15.20//NONSGML v1.0//EN
CALSCALE:GREGORIAN
METHOD:PUBLISH
X-WR-CALNAME:Cliff Bell's
X-ORIGINAL-URL:https://cliffbells.com
X-WR-CALDESC:Events for Cliff Bell's
REFRESH-INTERVAL;VALUE=DURATION:PT1H
X-Robots-Tag:noindex
X-PUBLISHED-TTL:PT1H
BEGIN:VTIMEZONE
TZID:America/Detroit
BEGIN:DAYLIGHT
TZOFFSETFROM:-0500
TZOFFSETTO:-0400
TZNAME:EDT
DTSTART:20250309T070000
END:DAYLIGHT
BEGIN:STANDARD
TZOFFSETFROM:-0400
TZOFFSETTO:-0500
TZNAME:EST
DTSTART:20251102T060000
END:STANDARD
BEGIN:DAYLIGHT
TZOFFSETFROM:-0500
TZOFFSETTO:-0400
TZNAME:EDT
DTSTART:20260308T070000
END:DAYLIGHT
BEGIN:STANDARD
TZOFFSETFROM:-0400
TZOFFSETTO:-0500
TZNAME:EST
DTSTART:20261101T060000
END:STANDARD
BEGIN:DAYLIGHT
TZOFFSETFROM:-0500
TZOFFSETTO:-0400
TZNAME:EDT
DTSTART:20270314T070000
END:DAYLIGHT
BEGIN:STANDARD
TZOFFSETFROM:-0400
TZOFFSETTO:-0500
TZNAME:EST
DTSTART:20271107T060000
END:STANDARD
END:VTIMEZONE
BEGIN:VEVENT
DTSTART;TZID=America/Detroit:20260607T173000
DTEND;TZID=America/Detroit:20260607T193000
DTSTAMP:20260420T091817
CREATED:20260310T142836Z
LAST-MODIFIED:20260310T142836Z
UID:10009426-1780853400-1780860600@cliffbells.com
SUMMARY:DICHI
DESCRIPTION:Showtimes are at 5:30p & 7:30p for this performance. Doors open at 4pm for dinner. Seating begins at 5pm for “Dinner & a Show”. The second show starts seating at 7pm.\nDICHI is a Detroit based jazz collective led by saxophonist Colin McCahill and guitarist Hayden Cusmano with Ian Lukas on Bass\, and Philip Buchman on Drums. Each musician is high in demand throughout the Detroit scene as sidemen. The group’s influences range from a wide variety of their favorite artists such as George Benson\, Nicholas Payton\, Butcher Brown\, Cannonball Adderley\, and even some singers such as Bob Dylan. Whether delivering fiery solos or introspective ballads\, they create an experience that resonates with jazz aficionados and newcomers alike. \n 
URL:https://cliffbells.com/event/dichi-2/
ATTACH;FMTTYPE=image/jpeg:https://cliffbells.com/wp-content/uploads/2025/05/WebsiteCover.jpg
END:VEVENT
END:VCALENDAR