BEGIN:VCALENDAR
VERSION:2.0
PRODID:-//Cliff Bell's - ECPv6.15.20//NONSGML v1.0//EN
CALSCALE:GREGORIAN
METHOD:PUBLISH
X-WR-CALNAME:Cliff Bell's
X-ORIGINAL-URL:https://cliffbells.com
X-WR-CALDESC:Events for Cliff Bell's
REFRESH-INTERVAL;VALUE=DURATION:PT1H
X-Robots-Tag:noindex
X-PUBLISHED-TTL:PT1H
BEGIN:VTIMEZONE
TZID:America/Detroit
BEGIN:DAYLIGHT
TZOFFSETFROM:-0500
TZOFFSETTO:-0400
TZNAME:EDT
DTSTART:20250309T070000
END:DAYLIGHT
BEGIN:STANDARD
TZOFFSETFROM:-0400
TZOFFSETTO:-0500
TZNAME:EST
DTSTART:20251102T060000
END:STANDARD
BEGIN:DAYLIGHT
TZOFFSETFROM:-0500
TZOFFSETTO:-0400
TZNAME:EDT
DTSTART:20260308T070000
END:DAYLIGHT
BEGIN:STANDARD
TZOFFSETFROM:-0400
TZOFFSETTO:-0500
TZNAME:EST
DTSTART:20261101T060000
END:STANDARD
BEGIN:DAYLIGHT
TZOFFSETFROM:-0500
TZOFFSETTO:-0400
TZNAME:EDT
DTSTART:20270314T070000
END:DAYLIGHT
BEGIN:STANDARD
TZOFFSETFROM:-0400
TZOFFSETTO:-0500
TZNAME:EST
DTSTART:20271107T060000
END:STANDARD
END:VTIMEZONE
BEGIN:VEVENT
DTSTART;TZID=America/Detroit:20260611T193000
DTEND;TZID=America/Detroit:20260611T213000
DTSTAMP:20260420T142019
CREATED:20260331T165029Z
LAST-MODIFIED:20260331T165029Z
UID:10009442-1781206200-1781213400@cliffbells.com
SUMMARY:The Dennard Deas Daher Trio
DESCRIPTION:SHOWTIMES ARE AT 7:30PM & 9:30PM FOR THIS PERFORMANCE. Doors open at 5pm for dinner. Seating begins at 6pm for “Dinner & a Show”. The second show starts seating at 9pm.\nThe Dennard\, Deas\, Daher Trio harnesses raw\, rhythmic\, and spiritual improvisational energy in their explorations of the open space of the chordless trio. The group flows between standards\, original compositions\, and conceptually structured free improvisations in their sonic journeys through the eternal present. \nFeaturing: \n\nAllen Dennard\nJosef Deas\nMatthew Daher\n\nRecordings of their last performance at Cliff Bell’s: \nhttps://vimeo.com/matthewdahermusic/dddlivecliffbells12323?share=copy&fl=sv&fe=ci\nhttps://vimeo.com/matthewdahermusic/dddnightdreamercongregation?share=copy&fl=sv&fe=ci
URL:https://cliffbells.com/event/the-dennard-deas-daher-trio-3/
ATTACH;FMTTYPE=image/png:https://cliffbells.com/wp-content/uploads/2026/03/ddd.png
END:VEVENT
END:VCALENDAR