BEGIN:VCALENDAR
VERSION:2.0
PRODID:-//Cliff Bell's - ECPv6.15.20//NONSGML v1.0//EN
CALSCALE:GREGORIAN
METHOD:PUBLISH
X-WR-CALNAME:Cliff Bell's
X-ORIGINAL-URL:https://cliffbells.com
X-WR-CALDESC:Events for Cliff Bell's
REFRESH-INTERVAL;VALUE=DURATION:PT1H
X-Robots-Tag:noindex
X-PUBLISHED-TTL:PT1H
BEGIN:VTIMEZONE
TZID:America/Detroit
BEGIN:DAYLIGHT
TZOFFSETFROM:-0500
TZOFFSETTO:-0400
TZNAME:EDT
DTSTART:20250309T070000
END:DAYLIGHT
BEGIN:STANDARD
TZOFFSETFROM:-0400
TZOFFSETTO:-0500
TZNAME:EST
DTSTART:20251102T060000
END:STANDARD
BEGIN:DAYLIGHT
TZOFFSETFROM:-0500
TZOFFSETTO:-0400
TZNAME:EDT
DTSTART:20260308T070000
END:DAYLIGHT
BEGIN:STANDARD
TZOFFSETFROM:-0400
TZOFFSETTO:-0500
TZNAME:EST
DTSTART:20261101T060000
END:STANDARD
BEGIN:DAYLIGHT
TZOFFSETFROM:-0500
TZOFFSETTO:-0400
TZNAME:EDT
DTSTART:20270314T070000
END:DAYLIGHT
BEGIN:STANDARD
TZOFFSETFROM:-0400
TZOFFSETTO:-0500
TZNAME:EST
DTSTART:20271107T060000
END:STANDARD
END:VTIMEZONE
BEGIN:VEVENT
DTSTART;TZID=America/Detroit:20260619T193000
DTEND;TZID=America/Detroit:20260619T213000
DTSTAMP:20260421T020448
CREATED:20260331T170255Z
LAST-MODIFIED:20260410T135804Z
UID:10009450-1781897400-1781904600@cliffbells.com
SUMMARY:Smoke Jones Juneteenth Celebration Featuring: Heshima Moja
DESCRIPTION:Showtimes are at 7:30p & 9:30p for this performance. Doors open at 6pm for dinner. Seating begins at 6pm for “Dinner & a Show”. The second show starts seating at 9pm.\nHailing from the heart of Detroit\, Smoke Jones emerges as a luminary figure in the city’s rich musical landscape. An emotive guitarist\, award-winning band leader\, and soulful crooner\, Smoke weaves together elements of jazz\, blues\, and soul to create an enchanting musical tapestry that resonates deeply with audiences. \n \nHeshima Moja is an artist whose work transcends conventional boundaries\, flourishing at the intersection of creativity\, cultural heritage\, and visionary imagination. His artistry is rooted in aprofound connection to the soulful depths of music and the rich tapestry of global cultures. With every performance and project\, he invites audiences into a world where art is not only seen and  heard but felt as a catalyst for introspection\, healing\, and societal reflection. Embarking on a sonic journey with Heshima reveals the delicate balance he strikesbetween tradition and innovation. His work becomes a dialogue between the past and the future\, grounded in the belief that music holds the power to transcend time and space. Through exceptional musicianship\, he becomes a storyteller who uses the universal language of sound to illuminate our shared humanity and the many\nexpressions of the human condition. On stage\, Heshima stands as a beacon of authenticity and passion. His presence merges intensity with grace\, capturing the imagination and transporting listeners to realms beyond the physical world. In these moments of transcendental musicality\, his creative spirit shines most clearly\, offering a glimpse into the depth of his vision and the expansiveness of his artistic voice. Beyond performance\, Heshima is defined by a relentless pursuit of innovation. He continually explores new textures\, forms\, and modes of expression\, pushing the boundaries of what is possible in music and interdisciplinary art. This commitment to originality is matched by a deep dedication to cultural preservation and education\, reflecting his belief in the transformative role of artists as both innovators and guardians of heritage. \nHis work serves as a reminder of the arts&#39; essential role in shaping collective consciousness and fostering a more inclusive and empathetic world. Through his music\, Heshima challenges us to listen with our hearts\, to honor beauty in diversity\, and to reimagine our place within the global tapestry of cultures. In his artistry\, we find a call to action: to engage with art not as passive observers but as participants in a shared journey toward understanding\, unity\, and renewal. \nHeshima has composed music for Nickelodeon\, PBS\, and independent film\, and has released three projects as a leader: Round and Round (2011)\, The Awakening (2017)\, and The Healing Suite (2024). He has recorded and shared the stage with a wide spectrum of influential artists\, including Patti Labelle\, Hi-Five\, La India\, Paoli Mejias\, William Cepeda\, Shafat Khan\, Arturo O’Farrill\, Avery Sharpe\, Fred Ho\, Onaje Allan Gumbs\, Salim Washington\, Pape Diouf\, Elage Diouf\, Quest Love\, Guru\, and Farrah Boule and Tribal Hop.
URL:https://cliffbells.com/event/smoke-jones-juneteenth-celebration/
ATTACH;FMTTYPE=image/jpeg:https://cliffbells.com/wp-content/uploads/2024/03/i-D6NJKJC-X4.jpg
END:VEVENT
END:VCALENDAR