BEGIN:VCALENDAR
VERSION:2.0
PRODID:-//Cliff Bell's - ECPv6.15.20//NONSGML v1.0//EN
CALSCALE:GREGORIAN
METHOD:PUBLISH
X-WR-CALNAME:Cliff Bell's
X-ORIGINAL-URL:https://cliffbells.com
X-WR-CALDESC:Events for Cliff Bell's
REFRESH-INTERVAL;VALUE=DURATION:PT1H
X-Robots-Tag:noindex
X-PUBLISHED-TTL:PT1H
BEGIN:VTIMEZONE
TZID:America/Detroit
BEGIN:DAYLIGHT
TZOFFSETFROM:-0500
TZOFFSETTO:-0400
TZNAME:EDT
DTSTART:20250309T070000
END:DAYLIGHT
BEGIN:STANDARD
TZOFFSETFROM:-0400
TZOFFSETTO:-0500
TZNAME:EST
DTSTART:20251102T060000
END:STANDARD
BEGIN:DAYLIGHT
TZOFFSETFROM:-0500
TZOFFSETTO:-0400
TZNAME:EDT
DTSTART:20260308T070000
END:DAYLIGHT
BEGIN:STANDARD
TZOFFSETFROM:-0400
TZOFFSETTO:-0500
TZNAME:EST
DTSTART:20261101T060000
END:STANDARD
BEGIN:DAYLIGHT
TZOFFSETFROM:-0500
TZOFFSETTO:-0400
TZNAME:EDT
DTSTART:20270314T070000
END:DAYLIGHT
BEGIN:STANDARD
TZOFFSETFROM:-0400
TZOFFSETTO:-0500
TZNAME:EST
DTSTART:20271107T060000
END:STANDARD
END:VTIMEZONE
BEGIN:VEVENT
DTSTART;TZID=America/Detroit:20260620T193000
DTEND;TZID=America/Detroit:20260620T213000
DTSTAMP:20260421T034110
CREATED:20260331T210316Z
LAST-MODIFIED:20260331T210316Z
UID:10009464-1781983800-1781991000@cliffbells.com
SUMMARY:Hannah Marks
DESCRIPTION:Showtimes are at 7:30p & 9:30p for this performance. Doors open at 6pm for dinner. Seating begins at 6pm for “Dinner & a Show”. The second show starts seating at 9pm.\n“One to watch.” – Dee Dee Bridgewater \nFeaturing Detroit’s own: \n\nMichael Malis\, piano\nJohnathon Taylor\, drums\n\nHannah Marks is a bassist\, composer\, and educator living in New York City. She currently leads a risk-taking acoustic jazz quartet that features NYC’s most in-demand sidemen\, and has showcased her musical projects at festivals like the Detroit Jazz Festival\, Hyde Park Jazz Festival\, 80-35 Music Festival\, Mary Lou Williams Jazz Festival\, Iowa City Jazz Festival and Indy Jazz Festival. Produced by Jason Moran\, her second album\, Feed the Fire\, will be released in June 2026 on Endectomorph. \n \nMarks’ debut album\, Outsider\, Outlier\, is an explosive rendering of her search for belonging and empowerment. A nod to her love for punk\, noise and free improvisation\, Outsider\, Outlier released on Out Of Your Head Records on October 20\, 2023. Citizen Jazz called Outsider\, Outlier “…a very mature record from a young artist with very strong ideas who does not hold back anything.” \nAs a side-woman\, Marks has been described as having “a fresh\, modern\, and original approach to playing the bass” by Marcus Printup. Marks tours internationally with NEA Jazz Master Dee Dee Bridgewater’s project “We Exist!”\, and has performed with Geoffrey Keezer\, Nasheet Waits\, Terri Lyne Carrington\, Anna Webber\, Miles Okazaki\, Ingrid Jensen\, Kalia Vandever\, Matt Wilson\, Ted Nash\, Morgan Guerin\, Marcus Printup\, and Sasha Berliner. Marks’ discography includes playing on Geoffrey Keezer’s Grammy award winning composition “Refuge”\, Amanda Ekery’s Grammy nominated Arabé\, Kristen Lee Sergeant’s Falling with saxophonist Ted Nash\, and Heartland Trio’s debut album Year One. \nMarks is passionate about jazz education\, serving on faculty at Fordham University during the academic year\, and at Interlochen Arts Camp\, Stanford Jazz Workshop\, and Jazz Camp West during the summer. She has also presented masterclasses at universities across the country (Brown University\, Indiana University\, and University of Denver) and adjudicated at the Reno Jazz Festival\, Clark College Jazz Festival\, and Simpson College Jazz Festival.
URL:https://cliffbells.com/event/hannah-marks/
CATEGORIES:Featured
ATTACH;FMTTYPE=image/webp:https://cliffbells.com/wp-content/uploads/2026/03/74986_AME_002_16.webp
END:VEVENT
END:VCALENDAR