BEGIN:VCALENDAR
VERSION:2.0
PRODID:-//Cliff Bell's - ECPv6.15.20//NONSGML v1.0//EN
CALSCALE:GREGORIAN
METHOD:PUBLISH
X-WR-CALNAME:Cliff Bell's
X-ORIGINAL-URL:https://cliffbells.com
X-WR-CALDESC:Events for Cliff Bell's
REFRESH-INTERVAL;VALUE=DURATION:PT1H
X-Robots-Tag:noindex
X-PUBLISHED-TTL:PT1H
BEGIN:VTIMEZONE
TZID:America/Detroit
BEGIN:DAYLIGHT
TZOFFSETFROM:-0500
TZOFFSETTO:-0400
TZNAME:EDT
DTSTART:20250309T070000
END:DAYLIGHT
BEGIN:STANDARD
TZOFFSETFROM:-0400
TZOFFSETTO:-0500
TZNAME:EST
DTSTART:20251102T060000
END:STANDARD
BEGIN:DAYLIGHT
TZOFFSETFROM:-0500
TZOFFSETTO:-0400
TZNAME:EDT
DTSTART:20260308T070000
END:DAYLIGHT
BEGIN:STANDARD
TZOFFSETFROM:-0400
TZOFFSETTO:-0500
TZNAME:EST
DTSTART:20261101T060000
END:STANDARD
BEGIN:DAYLIGHT
TZOFFSETFROM:-0500
TZOFFSETTO:-0400
TZNAME:EDT
DTSTART:20270314T070000
END:DAYLIGHT
BEGIN:STANDARD
TZOFFSETFROM:-0400
TZOFFSETTO:-0500
TZNAME:EST
DTSTART:20271107T060000
END:STANDARD
END:VTIMEZONE
BEGIN:VEVENT
DTSTART;TZID=America/Detroit:20260626T193000
DTEND;TZID=America/Detroit:20260626T213000
DTSTAMP:20260421T111834
CREATED:20260331T173202Z
LAST-MODIFIED:20260331T173202Z
UID:10009455-1782502200-1782509400@cliffbells.com
SUMMARY:KonGruENT
DESCRIPTION:Showtimes are at 7:30p & 9:30p for this performance.\nDoors open at 5pm for dinner/Seating begins at 6:15p for the first show & 9:00p for the second show\nDr. Kenneth Gill is a gifted trombonist\, composer\, educator\, clinician\, and advocate for the arts. Born and raised in Detroit\, Michigan\, Kenneth began his musical journey by playing trombone at Ruddiman Middle School and the Detroit School of Arts (part of the Detroit Public Schools). He later earned a Bachelor of Music in Education from Howard University\, a Master of Music from Kent State University\, and a Doctor of Musical Arts in Jazz and Contemporary Improvisation from the University of Michigan. \nKenneth continues to forge his own musical path. In 2019\, he released an LP titled “The Good News.” As an in-demand trombonist\, he has recorded and performed with a variety of artists and ensembles. Some of the notable musicians he has shared the stage with include Marcus Belgrave\, Gerald Wilson\, Grady Tate\, Donald Byrd\, Clark Terry\, Yusef Lateef\, Jimmy Heath\, Frank Foster\, Gladys Knight\, El DeBarge\, Boyz II Men\, Tori Kelly\, Martha Reeves\, Ray Chew\, Les Nubians\, Jennifer Holliday\, Mutiny\, Mike Phillips\, Darius Rucker\, Kurt Elling\, Terence Blanchard\, and many more. \nLeslie Hoggatt Gill is a gifted vocalist\, arranger\, and songwriter. Born and raised in Detroit\, Michigan\, Leslie sang before she could speak; her parents recognized and nurtured her passion\nfor music from an early age. She sang her first concert solo at the age of three and began classical piano training at four. Leslie’s vocal talent has enabled her to travel and perform at various public and private events across the United States and abroad. She has also been featured on several studio recordings and has graced the stages of iconic venues such as Detroit’s\nlegendary Baker’s Keyboard Lounge and the famous Cliff Bell’s jazz club. \nKenneth and Leslie were married in 2020\, becoming the Gill Duet in more ways than one. Their deep love for jazz\, music history\, and each other enriches their creative partnership\, which\nnaturally led to them performing together. Kongruent embodies the essence of its name. This collective of outstanding and accomplished musicians are aligned and united by a common goal: to express freedom through straight-ahead and progressive jazz compositions and arrangements that showcase the bold\, powerful sound of horns. \n.
URL:https://cliffbells.com/event/kongruent-2/2026-06-26/
ATTACH;FMTTYPE=image/jpeg:https://cliffbells.com/wp-content/uploads/2023/03/Kenneth-Gill_Kongruent_Gill-Duet_Photo-scaled.jpg
END:VEVENT
END:VCALENDAR