BEGIN:VCALENDAR
VERSION:2.0
PRODID:-//Cliff Bell's - ECPv6.15.20//NONSGML v1.0//EN
CALSCALE:GREGORIAN
METHOD:PUBLISH
X-ORIGINAL-URL:https://cliffbells.com
X-WR-CALDESC:Events for Cliff Bell's
REFRESH-INTERVAL;VALUE=DURATION:PT1H
X-Robots-Tag:noindex
X-PUBLISHED-TTL:PT1H
BEGIN:VTIMEZONE
TZID:America/Detroit
BEGIN:DAYLIGHT
TZOFFSETFROM:-0500
TZOFFSETTO:-0400
TZNAME:EDT
DTSTART:20250309T070000
END:DAYLIGHT
BEGIN:STANDARD
TZOFFSETFROM:-0400
TZOFFSETTO:-0500
TZNAME:EST
DTSTART:20251102T060000
END:STANDARD
BEGIN:DAYLIGHT
TZOFFSETFROM:-0500
TZOFFSETTO:-0400
TZNAME:EDT
DTSTART:20260308T070000
END:DAYLIGHT
BEGIN:STANDARD
TZOFFSETFROM:-0400
TZOFFSETTO:-0500
TZNAME:EST
DTSTART:20261101T060000
END:STANDARD
BEGIN:DAYLIGHT
TZOFFSETFROM:-0500
TZOFFSETTO:-0400
TZNAME:EDT
DTSTART:20270314T070000
END:DAYLIGHT
BEGIN:STANDARD
TZOFFSETFROM:-0400
TZOFFSETTO:-0500
TZNAME:EST
DTSTART:20271107T060000
END:STANDARD
END:VTIMEZONE
BEGIN:VEVENT
DTSTART;TZID=America/Detroit:20260702T193000
DTEND;TZID=America/Detroit:20260702T213000
DTSTAMP:20260421T194413
CREATED:20260331T174443Z
LAST-MODIFIED:20260331T174605Z
UID:10009463-1783020600-1783027800@cliffbells.com
SUMMARY:Harmolodics play Herbie
DESCRIPTION:Doors open at 5pm for dinner. Seating begins at 6pm for “Dinner & a Show”. The second show starts seating at 9pm.\nThe Harmolodics band was formed in 2018 by Benjamin Green as a tribute to the great improviser Ornette Coleman and has since grown into a redefinition and continuation of the idea and concept of harmolodics music. \nUtilizing electronics and and electro acoustic manipulation\, the Harmolodics strives to push the boundaries of “the trio”. \nFrom meandering improvisational textures to soaring melodies\, hard hitting grooves to tender explorations of emotion\, the Harmolodics seek to convey real feeling\, passion\, and unabashed sonic freedom. \n 
URL:https://cliffbells.com/event/harmolodics-play-herbie/
ATTACH;FMTTYPE=image/jpeg:https://cliffbells.com/wp-content/uploads/2023/09/Benjamin-Green.jpg
END:VEVENT
END:VCALENDAR